BEGIN:VCALENDAR
VERSION:2.0
PRODID:-//Carpinteria Community Library - ECPv6.15.20//NONSGML v1.0//EN
CALSCALE:GREGORIAN
METHOD:PUBLISH
X-ORIGINAL-URL:https://carpinterialibrary.org
X-WR-CALDESC:Events for Carpinteria Community Library
REFRESH-INTERVAL;VALUE=DURATION:PT1H
X-Robots-Tag:noindex
X-PUBLISHED-TTL:PT1H
BEGIN:VTIMEZONE
TZID:America/Los_Angeles
BEGIN:DAYLIGHT
TZOFFSETFROM:-0800
TZOFFSETTO:-0700
TZNAME:PDT
DTSTART:20230312T100000
END:DAYLIGHT
BEGIN:STANDARD
TZOFFSETFROM:-0700
TZOFFSETTO:-0800
TZNAME:PST
DTSTART:20231105T090000
END:STANDARD
BEGIN:DAYLIGHT
TZOFFSETFROM:-0800
TZOFFSETTO:-0700
TZNAME:PDT
DTSTART:20240310T100000
END:DAYLIGHT
BEGIN:STANDARD
TZOFFSETFROM:-0700
TZOFFSETTO:-0800
TZNAME:PST
DTSTART:20241103T090000
END:STANDARD
BEGIN:DAYLIGHT
TZOFFSETFROM:-0800
TZOFFSETTO:-0700
TZNAME:PDT
DTSTART:20250309T100000
END:DAYLIGHT
BEGIN:STANDARD
TZOFFSETFROM:-0700
TZOFFSETTO:-0800
TZNAME:PST
DTSTART:20251102T090000
END:STANDARD
END:VTIMEZONE
BEGIN:VEVENT
DTSTART;TZID=America/Los_Angeles:20240509T103000
DTEND;TZID=America/Los_Angeles:20240509T120000
DTSTAMP:20260419T120152
CREATED:20221027T174251Z
LAST-MODIFIED:20251124T223805Z
UID:2116-1715250600-1715256000@carpinterialibrary.org
SUMMARY:Dementia Caregivers Support Group
DESCRIPTION:Alzheimer’s Association support groups provide caregivers and others affected by the disease the opportunity to exchange information and develop methods and skills to solve problems. \nGroup members build a support system with people who understand. This support group led by a trained facilitator is a safe place for family caregivers of people with dementia to exchange practical information n solutions to common challenges\, talk through issues and find ways of coping\, share feelings\, needs and concerns\, and learn about community resources that can help. \nMeets every 2nd and 4th Thursdays\, 10:30am-12:00pm
URL:https://carpinterialibrary.org/event/dementia-support-group-2/2024-05-09/
LOCATION:Carpinteria Community Library\, 5141 Carpinteria Avenue\, Carpinteria\, CA\, 93013\, United States
ATTACH;FMTTYPE=image/jpeg:https://carpinterialibrary.org/wp-content/uploads/2022/08/dementia.jpg
END:VEVENT
END:VCALENDAR