BEGIN:VCALENDAR
VERSION:2.0
PRODID:-//Carpinteria Community Library - ECPv6.15.20//NONSGML v1.0//EN
CALSCALE:GREGORIAN
METHOD:PUBLISH
X-WR-CALNAME:Carpinteria Community Library
X-ORIGINAL-URL:https://carpinterialibrary.org
X-WR-CALDESC:Events for Carpinteria Community Library
REFRESH-INTERVAL;VALUE=DURATION:PT1H
X-Robots-Tag:noindex
X-PUBLISHED-TTL:PT1H
BEGIN:VTIMEZONE
TZID:America/Los_Angeles
BEGIN:DAYLIGHT
TZOFFSETFROM:-0800
TZOFFSETTO:-0700
TZNAME:PDT
DTSTART:20250309T100000
END:DAYLIGHT
BEGIN:STANDARD
TZOFFSETFROM:-0700
TZOFFSETTO:-0800
TZNAME:PST
DTSTART:20251102T090000
END:STANDARD
BEGIN:DAYLIGHT
TZOFFSETFROM:-0800
TZOFFSETTO:-0700
TZNAME:PDT
DTSTART:20260308T100000
END:DAYLIGHT
BEGIN:STANDARD
TZOFFSETFROM:-0700
TZOFFSETTO:-0800
TZNAME:PST
DTSTART:20261101T090000
END:STANDARD
BEGIN:DAYLIGHT
TZOFFSETFROM:-0800
TZOFFSETTO:-0700
TZNAME:PDT
DTSTART:20270314T100000
END:DAYLIGHT
BEGIN:STANDARD
TZOFFSETFROM:-0700
TZOFFSETTO:-0800
TZNAME:PST
DTSTART:20271107T090000
END:STANDARD
END:VTIMEZONE
BEGIN:VEVENT
DTSTART;TZID=America/Los_Angeles:20260422T090000
DTEND;TZID=America/Los_Angeles:20260422T100000
DTSTAMP:20260422T030656
CREATED:20240725T232234Z
LAST-MODIFIED:20251211T172423Z
UID:4838-1776848400-1776852000@carpinterialibrary.org
SUMMARY:Babies Are The Best
DESCRIPTION:Come and join us!
URL:https://carpinterialibrary.org/event/babies-are-the-best-2025-06-18/2026-04-22/
LOCATION:Carpinteria Community Library\, 5141 Carpinteria Avenue\, Carpinteria\, CA\, 93013\, United States
ATTACH;FMTTYPE=image/jpeg:https://carpinterialibrary.org/wp-content/uploads/2023/05/Babies-are-the-best.jpg
END:VEVENT
BEGIN:VEVENT
DTSTART;TZID=America/Los_Angeles:20260422T110000
DTEND;TZID=America/Los_Angeles:20260422T123000
DTSTAMP:20260422T030656
CREATED:20241003T170146Z
LAST-MODIFIED:20250520T172114Z
UID:4157-1776855600-1776861000@carpinterialibrary.org
SUMMARY:Science for Teens
DESCRIPTION:STEM Classes for Teens (11-13 years old)
URL:https://carpinterialibrary.org/event/science-for-teens/2026-04-22/
LOCATION:Carpinteria Community Library\, 5141 Carpinteria Avenue\, Carpinteria\, CA\, 93013\, United States
ATTACH;FMTTYPE=image/jpeg:https://carpinterialibrary.org/wp-content/uploads/2024/10/Science-for-Teens-Lesson-Flyer-1.jpg
END:VEVENT
BEGIN:VEVENT
DTSTART;TZID=America/Los_Angeles:20260422T130000
DTEND;TZID=America/Los_Angeles:20260422T150000
DTSTAMP:20260422T030656
CREATED:20241010T161259Z
LAST-MODIFIED:20251211T172925Z
UID:4029-1776862800-1776870000@carpinterialibrary.org
SUMMARY:Carpinteria Knitters Group
DESCRIPTION:Every Wednesday at 1:00pm \nAll levels are welcome!
URL:https://carpinterialibrary.org/event/carpinteria-knitters-group-2/2026-04-22/
LOCATION:Carpinteria Community Library\, 5141 Carpinteria Avenue\, Carpinteria\, CA\, 93013\, United States
ATTACH;FMTTYPE=image/jpeg:https://carpinterialibrary.org/wp-content/uploads/2024/10/Knitting-Group-500-x-500-px.jpg
END:VEVENT
BEGIN:VEVENT
DTSTART;TZID=America/Los_Angeles:20260422T170000
DTEND;TZID=America/Los_Angeles:20260422T183000
DTSTAMP:20260422T030656
CREATED:20260312T232418Z
LAST-MODIFIED:20260312T232418Z
UID:9058-1776877200-1776882600@carpinterialibrary.org
SUMMARY:WILD THINGS: Vandenberg Mission Update
DESCRIPTION:This event will take place in the VETS HALL \nSpace Launch Delta 30\, Vandenberg Space Force Base \nSpeaker: Col. Horne\,  a Brief presentation by Col. Horne and subject matter experts\n– Moderated Q&A with community members\nThe purpose of the forum is to provide clear\, educational information on space launch operations and sonic booms\, and to allow residents an opportunity to ask questions directly in an open setting.
URL:https://carpinterialibrary.org/event/wild-things-vandenberg-mission-update/
LOCATION:Carpinteria Veterans Memorial Building\, 941 Walnut Ave\, Carpinteria\, 93013
ATTACH;FMTTYPE=image/png:https://carpinterialibrary.org/wp-content/uploads/2026/03/Wild-Things-talk-1.png
END:VEVENT
END:VCALENDAR