BEGIN:VCALENDAR
VERSION:2.0
PRODID:-//Carpinteria Community Library - ECPv6.15.20//NONSGML v1.0//EN
CALSCALE:GREGORIAN
METHOD:PUBLISH
X-WR-CALNAME:Carpinteria Community Library
X-ORIGINAL-URL:https://carpinterialibrary.org
X-WR-CALDESC:Events for Carpinteria Community Library
REFRESH-INTERVAL;VALUE=DURATION:PT1H
X-Robots-Tag:noindex
X-PUBLISHED-TTL:PT1H
BEGIN:VTIMEZONE
TZID:America/Los_Angeles
BEGIN:DAYLIGHT
TZOFFSETFROM:-0800
TZOFFSETTO:-0700
TZNAME:PDT
DTSTART:20230312T100000
END:DAYLIGHT
BEGIN:STANDARD
TZOFFSETFROM:-0700
TZOFFSETTO:-0800
TZNAME:PST
DTSTART:20231105T090000
END:STANDARD
BEGIN:DAYLIGHT
TZOFFSETFROM:-0800
TZOFFSETTO:-0700
TZNAME:PDT
DTSTART:20240310T100000
END:DAYLIGHT
BEGIN:STANDARD
TZOFFSETFROM:-0700
TZOFFSETTO:-0800
TZNAME:PST
DTSTART:20241103T090000
END:STANDARD
BEGIN:DAYLIGHT
TZOFFSETFROM:-0800
TZOFFSETTO:-0700
TZNAME:PDT
DTSTART:20250309T100000
END:DAYLIGHT
BEGIN:STANDARD
TZOFFSETFROM:-0700
TZOFFSETTO:-0800
TZNAME:PST
DTSTART:20251102T090000
END:STANDARD
END:VTIMEZONE
BEGIN:VEVENT
DTSTART;TZID=America/Los_Angeles:20241001T130000
DTEND;TZID=America/Los_Angeles:20241001T140000
DTSTAMP:20260425T055851
CREATED:20221024T215757Z
LAST-MODIFIED:20240301T001119Z
UID:2550-1727787600-1727791200@carpinterialibrary.org
SUMMARY:Spanish Conversation Group
DESCRIPTION:Every Tuesday at 1:00pm at the Carpinteria Community Library! \nWant to improve your Spanish speaking skills? Join Carpinteria Community Library! \nNative Spanish speakers looking to engage in friendly conversation are also welcome. \nSeating is limited! 
URL:https://carpinterialibrary.org/event/spanish-conversation-group-8/2024-10-01/
LOCATION:Carpinteria Community Library\, 5141 Carpinteria Avenue\, Carpinteria\, CA\, 93013\, United States
ATTACH;FMTTYPE=image/jpeg:https://carpinterialibrary.org/wp-content/uploads/2022/10/Copy-of-Spanish-Conversation-Group.jpg
END:VEVENT
BEGIN:VEVENT
DTSTART;TZID=America/Los_Angeles:20241001T160000
DTEND;TZID=America/Los_Angeles:20241001T173000
DTSTAMP:20260425T055851
CREATED:20240507T213321Z
LAST-MODIFIED:20250520T175556Z
UID:3087-1727798400-1727803800@carpinterialibrary.org
SUMMARY:Carpinteria Songwriters Circle
DESCRIPTION:
URL:https://carpinterialibrary.org/event/carpinteria-songwriters/2024-10-01/
LOCATION:Carpinteria Community Library\, 5141 Carpinteria Avenue\, Carpinteria\, CA\, 93013\, United States
ATTACH;FMTTYPE=image/jpeg:https://carpinterialibrary.org/wp-content/uploads/2024/05/songwriters.jpg
END:VEVENT
BEGIN:VEVENT
DTSTART;TZID=America/Los_Angeles:20241002T090000
DTEND;TZID=America/Los_Angeles:20241002T100000
DTSTAMP:20260425T055851
CREATED:20240725T232234Z
LAST-MODIFIED:20250528T181005Z
UID:4759-1727859600-1727863200@carpinterialibrary.org
SUMMARY:Babies Are The Best
DESCRIPTION:Come and join us!
URL:https://carpinterialibrary.org/event/babies-are-the-best/2024-10-02/
LOCATION:Carpinteria Community Library\, 5141 Carpinteria Avenue\, Carpinteria\, CA\, 93013\, United States
ATTACH;FMTTYPE=image/jpeg:https://carpinterialibrary.org/wp-content/uploads/2023/05/Babies-are-the-best.jpg
END:VEVENT
BEGIN:VEVENT
DTSTART;TZID=America/Los_Angeles:20241002T153000
DTEND;TZID=America/Los_Angeles:20241002T163000
DTSTAMP:20260425T055851
CREATED:20231025T220839Z
LAST-MODIFIED:20250128T164414Z
UID:3464-1727883000-1727886600@carpinterialibrary.org
SUMMARY:Read to a dog
DESCRIPTION:Mark your calendars for the first Wednesday of every month! From 3:30pm to 4:30pm\, you’ve got the chance to read to a dog for 15 minutes. \nDon’t forget to make an appointment!
URL:https://carpinterialibrary.org/event/read-to-a-dog-2/2024-10-02/
LOCATION:Carpinteria Community Library\, 5141 Carpinteria Avenue\, Carpinteria\, CA\, 93013\, United States
ATTACH;FMTTYPE=image/jpeg:https://carpinterialibrary.org/wp-content/uploads/2023/10/Read-to-a-dog.jpg
END:VEVENT
BEGIN:VEVENT
DTSTART;TZID=America/Los_Angeles:20241003T100000
DTEND;TZID=America/Los_Angeles:20241003T123000
DTSTAMP:20260425T055851
CREATED:20230215T001445Z
LAST-MODIFIED:20251211T173508Z
UID:3020-1727949600-1727958600@carpinterialibrary.org
SUMMARY:One-on-One Tech Help
DESCRIPTION:Every first and third Thursday of the month from 10am to 12:30pm \nPlease ask for a 30-minute appointment to reserve a spot.
URL:https://carpinterialibrary.org/event/one-on-one-tech-help-2-2024-08-15/2024-10-03/
LOCATION:Carpinteria Community Library\, 5141 Carpinteria Avenue\, Carpinteria\, CA\, 93013\, United States
ATTACH;FMTTYPE=image/jpeg:https://carpinterialibrary.org/wp-content/uploads/2023/02/Hi-Tech-Help.jpg
END:VEVENT
BEGIN:VEVENT
DTSTART;TZID=America/Los_Angeles:20241003T180000
DTEND;TZID=America/Los_Angeles:20241003T190000
DTSTAMP:20260425T055851
CREATED:20240814T222913Z
LAST-MODIFIED:20240814T223458Z
UID:3414-1727978400-1727982000@carpinterialibrary.org
SUMMARY:Clases de Preparación para el Test de Ciudadanía
DESCRIPTION:Da el primer paso para la ciudadanía americana y prepárate para el examen.
URL:https://carpinterialibrary.org/event/clases-de-preparacion-para-el-test-de-ciudadania/2024-10-03/
LOCATION:Carpinteria Community Library\, 5141 Carpinteria Avenue\, Carpinteria\, CA\, 93013\, United States
ATTACH;FMTTYPE=image/jpeg:https://carpinterialibrary.org/wp-content/uploads/2024/08/Clases-de-ciudadania.jpg
END:VEVENT
BEGIN:VEVENT
DTSTART;TZID=America/Los_Angeles:20241003T180000
DTEND;TZID=America/Los_Angeles:20241003T193000
DTSTAMP:20260425T055851
CREATED:20240731T185258Z
LAST-MODIFIED:20241003T164213Z
UID:3367-1727978400-1727983800@carpinterialibrary.org
SUMMARY:Wild Things
DESCRIPTION:A lecture series about the local natural history.
URL:https://carpinterialibrary.org/event/wild-things-2024-09-05/
LOCATION:Carpinteria Community Library\, 5141 Carpinteria Avenue\, Carpinteria\, CA\, 93013\, United States
END:VEVENT
BEGIN:VEVENT
DTSTART;TZID=America/Los_Angeles:20241004T100000
DTEND;TZID=America/Los_Angeles:20241004T113000
DTSTAMP:20260425T055851
CREATED:20220929T003933Z
LAST-MODIFIED:20240903T233407Z
UID:2651-1728036000-1728041400@carpinterialibrary.org
SUMMARY:Friday Fun Day!
DESCRIPTION:Unstructured open play with Magna-tiles\, Brio trains\, Kapla blocks and the occasional messy project. For ages 3 – 11ish.
URL:https://carpinterialibrary.org/event/friday-fun-day/2024-10-04/
LOCATION:Carpinteria Community Library\, 5141 Carpinteria Avenue\, Carpinteria\, CA\, 93013\, United States
ATTACH;FMTTYPE=image/jpeg:https://carpinterialibrary.org/wp-content/uploads/2022/09/Friday-fun-2.jpg
END:VEVENT
BEGIN:VEVENT
DTSTART;TZID=America/Los_Angeles:20241008T100000
DTEND;TZID=America/Los_Angeles:20241008T120000
DTSTAMP:20260425T055851
CREATED:20220803T004956Z
LAST-MODIFIED:20250520T171140Z
UID:4454-1728381600-1728388800@carpinterialibrary.org
SUMMARY:Carpinteria Writers' Group
DESCRIPTION:The Carpinteria Writers Group has been in existence for nearly twenty years. Membership is free and open to the public. Poets\, novelists\,  bloggers\, nonfiction writers\, short story writers as well as people working on their memoirs are all welcome. Some members are published\, others wish to be\, and some write for their own amusement or to pass on their history to family members. \nThose who want to read may do so\, their time limited only by the number of other members wishing to read. The group members can then comment on the pieces. Support and helpful suggestions are the only welcome feedback.
URL:https://carpinterialibrary.org/event/carpinteria-writers-group/2024-10-08/
LOCATION:Carpinteria Community Library\, 5141 Carpinteria Avenue\, Carpinteria\, CA\, 93013\, United States
ATTACH;FMTTYPE=image/jpeg:https://carpinterialibrary.org/wp-content/uploads/2022/08/I-am-a-writer.jpg
END:VEVENT
BEGIN:VEVENT
DTSTART;TZID=America/Los_Angeles:20241008T130000
DTEND;TZID=America/Los_Angeles:20241008T140000
DTSTAMP:20260425T055851
CREATED:20221024T215757Z
LAST-MODIFIED:20240301T001119Z
UID:2551-1728392400-1728396000@carpinterialibrary.org
SUMMARY:Spanish Conversation Group
DESCRIPTION:Every Tuesday at 1:00pm at the Carpinteria Community Library! \nWant to improve your Spanish speaking skills? Join Carpinteria Community Library! \nNative Spanish speakers looking to engage in friendly conversation are also welcome. \nSeating is limited! 
URL:https://carpinterialibrary.org/event/spanish-conversation-group-8/2024-10-08/
LOCATION:Carpinteria Community Library\, 5141 Carpinteria Avenue\, Carpinteria\, CA\, 93013\, United States
ATTACH;FMTTYPE=image/jpeg:https://carpinterialibrary.org/wp-content/uploads/2022/10/Copy-of-Spanish-Conversation-Group.jpg
END:VEVENT
BEGIN:VEVENT
DTSTART;TZID=America/Los_Angeles:20241008T160000
DTEND;TZID=America/Los_Angeles:20241008T173000
DTSTAMP:20260425T055851
CREATED:20240507T213321Z
LAST-MODIFIED:20250520T175556Z
UID:3088-1728403200-1728408600@carpinterialibrary.org
SUMMARY:Carpinteria Songwriters Circle
DESCRIPTION:
URL:https://carpinterialibrary.org/event/carpinteria-songwriters/2024-10-08/
LOCATION:Carpinteria Community Library\, 5141 Carpinteria Avenue\, Carpinteria\, CA\, 93013\, United States
ATTACH;FMTTYPE=image/jpeg:https://carpinterialibrary.org/wp-content/uploads/2024/05/songwriters.jpg
END:VEVENT
BEGIN:VEVENT
DTSTART;TZID=America/Los_Angeles:20241009T090000
DTEND;TZID=America/Los_Angeles:20241009T100000
DTSTAMP:20260425T055851
CREATED:20240725T232234Z
LAST-MODIFIED:20250528T181006Z
UID:4760-1728464400-1728468000@carpinterialibrary.org
SUMMARY:Babies Are The Best
DESCRIPTION:Come and join us!
URL:https://carpinterialibrary.org/event/babies-are-the-best/2024-10-09/
LOCATION:Carpinteria Community Library\, 5141 Carpinteria Avenue\, Carpinteria\, CA\, 93013\, United States
ATTACH;FMTTYPE=image/jpeg:https://carpinterialibrary.org/wp-content/uploads/2023/05/Babies-are-the-best.jpg
END:VEVENT
BEGIN:VEVENT
DTSTART;TZID=America/Los_Angeles:20241009T110000
DTEND;TZID=America/Los_Angeles:20241009T123000
DTSTAMP:20260425T055851
CREATED:20241003T170146Z
LAST-MODIFIED:20250609T192226Z
UID:3627-1728471600-1728477000@carpinterialibrary.org
SUMMARY:Science for Teens
DESCRIPTION:STEM Classes for Teens (11-13 years old)
URL:https://carpinterialibrary.org/event/science-for-teens/2024-10-09/
LOCATION:Carpinteria Community Library\, 5141 Carpinteria Avenue\, Carpinteria\, CA\, 93013\, United States
ATTACH;FMTTYPE=image/jpeg:https://carpinterialibrary.org/wp-content/uploads/2024/10/Science-for-Teens-Lesson-Flyer-1.jpg
END:VEVENT
BEGIN:VEVENT
DTSTART;TZID=America/Los_Angeles:20241010T103000
DTEND;TZID=America/Los_Angeles:20241010T120000
DTSTAMP:20260425T055851
CREATED:20221027T174251Z
LAST-MODIFIED:20251124T223810Z
UID:3758-1728556200-1728561600@carpinterialibrary.org
SUMMARY:Dementia Caregivers Support Group
DESCRIPTION:Alzheimer’s Association support groups provide caregivers and others affected by the disease the opportunity to exchange information and develop methods and skills to solve problems. \nGroup members build a support system with people who understand. This support group led by a trained facilitator is a safe place for family caregivers of people with dementia to exchange practical information n solutions to common challenges\, talk through issues and find ways of coping\, share feelings\, needs and concerns\, and learn about community resources that can help. \nMeets every 2nd and 4th Thursdays\, 10:30am-12:00pm
URL:https://carpinterialibrary.org/event/dementia-support-group-2/2024-10-10/
LOCATION:Carpinteria Community Library\, 5141 Carpinteria Avenue\, Carpinteria\, CA\, 93013\, United States
ATTACH;FMTTYPE=image/jpeg:https://carpinterialibrary.org/wp-content/uploads/2022/08/dementia.jpg
END:VEVENT
BEGIN:VEVENT
DTSTART;TZID=America/Los_Angeles:20241010T150000
DTEND;TZID=America/Los_Angeles:20241010T164500
DTSTAMP:20260425T055851
CREATED:20231201T011508Z
LAST-MODIFIED:20260130T193703Z
UID:2499-1728572400-1728578700@carpinterialibrary.org
SUMMARY:Dungeons & Dragons Club (FULL)
DESCRIPTION:Dungeons & Dragons Club (OPEN)\nThis club is for ages 12-17 interested in learning how to play Dungeons & Dragons Fifth Edition (5e) and Sixth Edition (6e).  All experience levels in D&D are welcome\, whether you are brand new to the game or a veteran player. \nYou do not need to bring anything to the club to play. However\, feel free to bring any D&D equipment you may own such as rulebooks\, dice\, or character sheets. \nSCHEDULE AND INFO \n\nEvery Thursday from 3:30pm to 5:15pm in the Community Room.\nThis clubs runs on a monthly basis with players attending 4 sessions per month.\nSign-ups are always open for the following month\, unless stated otherwise.\nWe can take up to 5 players per month.\nPlayers may not attend two months in a row. This is to give everyone a fair chance at participating in the club. However\, feel free to sign up again after taking a month off!\nWe require parent or guardian contact information to join the club.\n\nIf you have questions\, call the library at (805) 684-4314. \nSIGN-UPS FOR MARCH ARE OPEN! SIGN UP HERE!
URL:https://carpinterialibrary.org/event/dungeons-dragons-club/2024-10-10/
LOCATION:Carpinteria Community Library\, 5141 Carpinteria Avenue\, Carpinteria\, CA\, 93013\, United States
ATTACH;FMTTYPE=image/jpeg:https://carpinterialibrary.org/wp-content/uploads/2023/11/Dungeons-and-Dragons-Club.jpg
END:VEVENT
BEGIN:VEVENT
DTSTART;TZID=America/Los_Angeles:20241011T100000
DTEND;TZID=America/Los_Angeles:20241011T113000
DTSTAMP:20260425T055851
CREATED:20220929T003933Z
LAST-MODIFIED:20240903T233407Z
UID:2652-1728640800-1728646200@carpinterialibrary.org
SUMMARY:Friday Fun Day!
DESCRIPTION:Unstructured open play with Magna-tiles\, Brio trains\, Kapla blocks and the occasional messy project. For ages 3 – 11ish.
URL:https://carpinterialibrary.org/event/friday-fun-day/2024-10-11/
LOCATION:Carpinteria Community Library\, 5141 Carpinteria Avenue\, Carpinteria\, CA\, 93013\, United States
ATTACH;FMTTYPE=image/jpeg:https://carpinterialibrary.org/wp-content/uploads/2022/09/Friday-fun-2.jpg
END:VEVENT
BEGIN:VEVENT
DTSTART;TZID=America/Los_Angeles:20241012T101500
DTEND;TZID=America/Los_Angeles:20241012T101500
DTSTAMP:20260425T055851
CREATED:20241002T000025Z
LAST-MODIFIED:20241002T000025Z
UID:3619-1728728100-1728728100@carpinterialibrary.org
SUMMARY:Mensa Admission Test
DESCRIPTION:
URL:https://carpinterialibrary.org/event/mensa-admission-test/
LOCATION:Carpinteria Community Library\, 5141 Carpinteria Avenue\, Carpinteria\, CA\, 93013\, United States
ATTACH;FMTTYPE=image/jpeg:https://carpinterialibrary.org/wp-content/uploads/2024/10/mensa-scaled.jpg
END:VEVENT
BEGIN:VEVENT
DTSTART;TZID=America/Los_Angeles:20241015T100000
DTEND;TZID=America/Los_Angeles:20241015T120000
DTSTAMP:20260425T055851
CREATED:20220803T004956Z
LAST-MODIFIED:20250520T171140Z
UID:4455-1728986400-1728993600@carpinterialibrary.org
SUMMARY:Carpinteria Writers' Group
DESCRIPTION:The Carpinteria Writers Group has been in existence for nearly twenty years. Membership is free and open to the public. Poets\, novelists\,  bloggers\, nonfiction writers\, short story writers as well as people working on their memoirs are all welcome. Some members are published\, others wish to be\, and some write for their own amusement or to pass on their history to family members. \nThose who want to read may do so\, their time limited only by the number of other members wishing to read. The group members can then comment on the pieces. Support and helpful suggestions are the only welcome feedback.
URL:https://carpinterialibrary.org/event/carpinteria-writers-group/2024-10-15/
LOCATION:Carpinteria Community Library\, 5141 Carpinteria Avenue\, Carpinteria\, CA\, 93013\, United States
ATTACH;FMTTYPE=image/jpeg:https://carpinterialibrary.org/wp-content/uploads/2022/08/I-am-a-writer.jpg
END:VEVENT
BEGIN:VEVENT
DTSTART;TZID=America/Los_Angeles:20241015T130000
DTEND;TZID=America/Los_Angeles:20241015T140000
DTSTAMP:20260425T055851
CREATED:20221024T215757Z
LAST-MODIFIED:20240301T001120Z
UID:2552-1728997200-1729000800@carpinterialibrary.org
SUMMARY:Spanish Conversation Group
DESCRIPTION:Every Tuesday at 1:00pm at the Carpinteria Community Library! \nWant to improve your Spanish speaking skills? Join Carpinteria Community Library! \nNative Spanish speakers looking to engage in friendly conversation are also welcome. \nSeating is limited! 
URL:https://carpinterialibrary.org/event/spanish-conversation-group-8/2024-10-15/
LOCATION:Carpinteria Community Library\, 5141 Carpinteria Avenue\, Carpinteria\, CA\, 93013\, United States
ATTACH;FMTTYPE=image/jpeg:https://carpinterialibrary.org/wp-content/uploads/2022/10/Copy-of-Spanish-Conversation-Group.jpg
END:VEVENT
BEGIN:VEVENT
DTSTART;TZID=America/Los_Angeles:20241015T160000
DTEND;TZID=America/Los_Angeles:20241015T173000
DTSTAMP:20260425T055851
CREATED:20240507T213321Z
LAST-MODIFIED:20250520T175557Z
UID:3089-1729008000-1729013400@carpinterialibrary.org
SUMMARY:Carpinteria Songwriters Circle
DESCRIPTION:
URL:https://carpinterialibrary.org/event/carpinteria-songwriters/2024-10-15/
LOCATION:Carpinteria Community Library\, 5141 Carpinteria Avenue\, Carpinteria\, CA\, 93013\, United States
ATTACH;FMTTYPE=image/jpeg:https://carpinterialibrary.org/wp-content/uploads/2024/05/songwriters.jpg
END:VEVENT
BEGIN:VEVENT
DTSTART;TZID=America/Los_Angeles:20241016T090000
DTEND;TZID=America/Los_Angeles:20241016T100000
DTSTAMP:20260425T055851
CREATED:20240725T232234Z
LAST-MODIFIED:20250528T181009Z
UID:4761-1729069200-1729072800@carpinterialibrary.org
SUMMARY:Babies Are The Best
DESCRIPTION:Come and join us!
URL:https://carpinterialibrary.org/event/babies-are-the-best/2024-10-16/
LOCATION:Carpinteria Community Library\, 5141 Carpinteria Avenue\, Carpinteria\, CA\, 93013\, United States
ATTACH;FMTTYPE=image/jpeg:https://carpinterialibrary.org/wp-content/uploads/2023/05/Babies-are-the-best.jpg
END:VEVENT
BEGIN:VEVENT
DTSTART;TZID=America/Los_Angeles:20241016T110000
DTEND;TZID=America/Los_Angeles:20241016T123000
DTSTAMP:20260425T055851
CREATED:20241003T170146Z
LAST-MODIFIED:20250520T172037Z
UID:4078-1729076400-1729081800@carpinterialibrary.org
SUMMARY:Science for Teens
DESCRIPTION:STEM Classes for Teens (11-13 years old)
URL:https://carpinterialibrary.org/event/science-for-teens/2024-10-16/
LOCATION:Carpinteria Community Library\, 5141 Carpinteria Avenue\, Carpinteria\, CA\, 93013\, United States
ATTACH;FMTTYPE=image/jpeg:https://carpinterialibrary.org/wp-content/uploads/2024/10/Science-for-Teens-Lesson-Flyer-1.jpg
END:VEVENT
BEGIN:VEVENT
DTSTART;TZID=America/Los_Angeles:20241016T130000
DTEND;TZID=America/Los_Angeles:20241016T150000
DTSTAMP:20260425T055851
CREATED:20241010T161259Z
LAST-MODIFIED:20251211T172849Z
UID:3950-1729083600-1729090800@carpinterialibrary.org
SUMMARY:Carpinteria Knitters Group
DESCRIPTION:Every Wednesday at 1:00pm \nAll levels are welcome!
URL:https://carpinterialibrary.org/event/carpinteria-knitters-group-2/2024-10-16/
LOCATION:Carpinteria Community Library\, 5141 Carpinteria Avenue\, Carpinteria\, CA\, 93013\, United States
ATTACH;FMTTYPE=image/jpeg:https://carpinterialibrary.org/wp-content/uploads/2024/10/Knitting-Group-500-x-500-px.jpg
END:VEVENT
BEGIN:VEVENT
DTSTART;TZID=America/Los_Angeles:20241017T100000
DTEND;TZID=America/Los_Angeles:20241017T123000
DTSTAMP:20260425T055851
CREATED:20230215T001445Z
LAST-MODIFIED:20251211T173509Z
UID:2997-1729159200-1729168200@carpinterialibrary.org
SUMMARY:One-on-One Tech Help
DESCRIPTION:Every first and third Thursday of the month from 10am to 12:30pm \nPlease ask for a 30-minute appointment to reserve a spot.
URL:https://carpinterialibrary.org/event/one-on-one-tech-help-2-2024-08-15/2024-10-17/
LOCATION:Carpinteria Community Library\, 5141 Carpinteria Avenue\, Carpinteria\, CA\, 93013\, United States
ATTACH;FMTTYPE=image/jpeg:https://carpinterialibrary.org/wp-content/uploads/2023/02/Hi-Tech-Help.jpg
END:VEVENT
BEGIN:VEVENT
DTSTART;TZID=America/Los_Angeles:20241018T100000
DTEND;TZID=America/Los_Angeles:20241018T113000
DTSTAMP:20260425T055851
CREATED:20220929T003933Z
LAST-MODIFIED:20240903T233407Z
UID:2653-1729245600-1729251000@carpinterialibrary.org
SUMMARY:Friday Fun Day!
DESCRIPTION:Unstructured open play with Magna-tiles\, Brio trains\, Kapla blocks and the occasional messy project. For ages 3 – 11ish.
URL:https://carpinterialibrary.org/event/friday-fun-day/2024-10-18/
LOCATION:Carpinteria Community Library\, 5141 Carpinteria Avenue\, Carpinteria\, CA\, 93013\, United States
ATTACH;FMTTYPE=image/jpeg:https://carpinterialibrary.org/wp-content/uploads/2022/09/Friday-fun-2.jpg
END:VEVENT
BEGIN:VEVENT
DTSTART;TZID=America/Los_Angeles:20241021T120000
DTEND;TZID=America/Los_Angeles:20241021T130000
DTSTAMP:20260425T055851
CREATED:20241009T181225Z
LAST-MODIFIED:20241009T181627Z
UID:3748-1729512000-1729515600@carpinterialibrary.org
SUMMARY:Housing & Community Development Meeting
DESCRIPTION:You’re Invited\, Community Input Needed \nRegister: countyofsb.org/494/Housing-Community-Development \n 
URL:https://carpinterialibrary.org/event/housing-community-development-needs-meeting/
LOCATION:Carpinteria Community Library\, 5141 Carpinteria Avenue\, Carpinteria\, CA\, 93013\, United States
ATTACH;FMTTYPE=application/pdf:https://carpinterialibrary.org/wp-content/uploads/2024/10/ConPlan-community-meeting-flyer.pdf
END:VEVENT
BEGIN:VEVENT
DTSTART;TZID=America/Los_Angeles:20241022T100000
DTEND;TZID=America/Los_Angeles:20241022T120000
DTSTAMP:20260425T055851
CREATED:20220803T004956Z
LAST-MODIFIED:20250520T171141Z
UID:4456-1729591200-1729598400@carpinterialibrary.org
SUMMARY:Carpinteria Writers' Group
DESCRIPTION:The Carpinteria Writers Group has been in existence for nearly twenty years. Membership is free and open to the public. Poets\, novelists\,  bloggers\, nonfiction writers\, short story writers as well as people working on their memoirs are all welcome. Some members are published\, others wish to be\, and some write for their own amusement or to pass on their history to family members. \nThose who want to read may do so\, their time limited only by the number of other members wishing to read. The group members can then comment on the pieces. Support and helpful suggestions are the only welcome feedback.
URL:https://carpinterialibrary.org/event/carpinteria-writers-group/2024-10-22/
LOCATION:Carpinteria Community Library\, 5141 Carpinteria Avenue\, Carpinteria\, CA\, 93013\, United States
ATTACH;FMTTYPE=image/jpeg:https://carpinterialibrary.org/wp-content/uploads/2022/08/I-am-a-writer.jpg
END:VEVENT
BEGIN:VEVENT
DTSTART;TZID=America/Los_Angeles:20241022T130000
DTEND;TZID=America/Los_Angeles:20241022T140000
DTSTAMP:20260425T055851
CREATED:20221024T215757Z
LAST-MODIFIED:20240301T001121Z
UID:2553-1729602000-1729605600@carpinterialibrary.org
SUMMARY:Spanish Conversation Group
DESCRIPTION:Every Tuesday at 1:00pm at the Carpinteria Community Library! \nWant to improve your Spanish speaking skills? Join Carpinteria Community Library! \nNative Spanish speakers looking to engage in friendly conversation are also welcome. \nSeating is limited! 
URL:https://carpinterialibrary.org/event/spanish-conversation-group-8/2024-10-22/
LOCATION:Carpinteria Community Library\, 5141 Carpinteria Avenue\, Carpinteria\, CA\, 93013\, United States
ATTACH;FMTTYPE=image/jpeg:https://carpinterialibrary.org/wp-content/uploads/2022/10/Copy-of-Spanish-Conversation-Group.jpg
END:VEVENT
BEGIN:VEVENT
DTSTART;TZID=America/Los_Angeles:20241022T160000
DTEND;TZID=America/Los_Angeles:20241022T173000
DTSTAMP:20260425T055851
CREATED:20240507T213321Z
LAST-MODIFIED:20250520T175557Z
UID:3090-1729612800-1729618200@carpinterialibrary.org
SUMMARY:Carpinteria Songwriters Circle
DESCRIPTION:
URL:https://carpinterialibrary.org/event/carpinteria-songwriters/2024-10-22/
LOCATION:Carpinteria Community Library\, 5141 Carpinteria Avenue\, Carpinteria\, CA\, 93013\, United States
ATTACH;FMTTYPE=image/jpeg:https://carpinterialibrary.org/wp-content/uploads/2024/05/songwriters.jpg
END:VEVENT
BEGIN:VEVENT
DTSTART;TZID=America/Los_Angeles:20241023T090000
DTEND;TZID=America/Los_Angeles:20241023T100000
DTSTAMP:20260425T055851
CREATED:20240725T232234Z
LAST-MODIFIED:20250528T181009Z
UID:4762-1729674000-1729677600@carpinterialibrary.org
SUMMARY:Babies Are The Best
DESCRIPTION:Come and join us!
URL:https://carpinterialibrary.org/event/babies-are-the-best/2024-10-23/
LOCATION:Carpinteria Community Library\, 5141 Carpinteria Avenue\, Carpinteria\, CA\, 93013\, United States
ATTACH;FMTTYPE=image/jpeg:https://carpinterialibrary.org/wp-content/uploads/2023/05/Babies-are-the-best.jpg
END:VEVENT
END:VCALENDAR