BEGIN:VCALENDAR
VERSION:2.0
PRODID:-//Carpinteria Community Library - ECPv6.15.20//NONSGML v1.0//EN
CALSCALE:GREGORIAN
METHOD:PUBLISH
X-ORIGINAL-URL:https://carpinterialibrary.org
X-WR-CALDESC:Events for Carpinteria Community Library
REFRESH-INTERVAL;VALUE=DURATION:PT1H
X-Robots-Tag:noindex
X-PUBLISHED-TTL:PT1H
BEGIN:VTIMEZONE
TZID:America/Los_Angeles
BEGIN:DAYLIGHT
TZOFFSETFROM:-0800
TZOFFSETTO:-0700
TZNAME:PDT
DTSTART:20250309T100000
END:DAYLIGHT
BEGIN:STANDARD
TZOFFSETFROM:-0700
TZOFFSETTO:-0800
TZNAME:PST
DTSTART:20251102T090000
END:STANDARD
BEGIN:DAYLIGHT
TZOFFSETFROM:-0800
TZOFFSETTO:-0700
TZNAME:PDT
DTSTART:20260308T100000
END:DAYLIGHT
BEGIN:STANDARD
TZOFFSETFROM:-0700
TZOFFSETTO:-0800
TZNAME:PST
DTSTART:20261101T090000
END:STANDARD
BEGIN:DAYLIGHT
TZOFFSETFROM:-0800
TZOFFSETTO:-0700
TZNAME:PDT
DTSTART:20270314T100000
END:DAYLIGHT
BEGIN:STANDARD
TZOFFSETFROM:-0700
TZOFFSETTO:-0800
TZNAME:PST
DTSTART:20271107T090000
END:STANDARD
END:VTIMEZONE
BEGIN:VEVENT
DTSTART;TZID=America/Los_Angeles:20260423T083000
DTEND;TZID=America/Los_Angeles:20260423T100000
DTSTAMP:20260423T042903
CREATED:20250828T235650Z
LAST-MODIFIED:20251124T223653Z
UID:7057-1776933000-1776938400@carpinterialibrary.org
SUMMARY:Grupo de Conversación en Inglés / English Language Conversation Group
DESCRIPTION:Para estudiantes de ESL\, cualquier nivel de inglés son bienvenidos. \nEn la Biblioteca Comunitaria de Carpintería. Sin costo alguno. \nFor ESL learners\, any English level are welcome.
URL:https://carpinterialibrary.org/event/grupo-de-conversacion-en-ingles-english-language-conversation-group/2026-04-23/
LOCATION:Carpinteria Community Library\, 5141 Carpinteria Avenue\, Carpinteria\, CA\, 93013\, United States
ATTACH;FMTTYPE=image/jpeg:https://carpinterialibrary.org/wp-content/uploads/2024/09/English-Conversation-Group-667-x-667-px.jpg
END:VEVENT
BEGIN:VEVENT
DTSTART;TZID=America/Los_Angeles:20260424T180000
DTEND;TZID=America/Los_Angeles:20260424T200000
DTSTAMP:20260423T042903
CREATED:20250417T212349Z
LAST-MODIFIED:20260406T181246Z
UID:5724-1777053600-1777060800@carpinterialibrary.org
SUMMARY:Movie Night!
DESCRIPTION:POPCORN & A MOVIE NIGHT!  \nJoin us for a free community movie screening. \nEnjoy complimentary popcorn and a festive\, fun night out with friends and family. \nThis Month’s Feature: \nthe HUGO \nWhen: Friday\, March 24thWhere: Carpinteria Community Library – Community Room \nAll ages welcome.
URL:https://carpinterialibrary.org/event/movie-night-2025-06-27-2025-10-31/2026-04-24/
ATTACH;FMTTYPE=image/jpeg:https://carpinterialibrary.org/wp-content/uploads/2025/04/Popcorn-and-a-Movie-Movie-Night-4.jpg
END:VEVENT
BEGIN:VEVENT
DTSTART;TZID=America/Los_Angeles:20260425T100000
DTEND;TZID=America/Los_Angeles:20260425T150000
DTSTAMP:20260423T042903
CREATED:20260325T234831Z
LAST-MODIFIED:20260330T153729Z
UID:9421-1777111200-1777129200@carpinterialibrary.org
SUMMARY:DIA - Caminos de Cuentos y Colores - Sidewalks of Stories and Color
DESCRIPTION:Celebrate Día de los Niños/El Día de los Libros on April 25th at the Library! * \nJoin us for a fun-filled\, family-friendly day honoring children\, families\, and the joy of reading with our exciting sidewalk chalk art festival! This event is free and open to all ages and skill levels. \n¡Celebra el Día de los Niños/El Día de los Libros el 25 de abril en la biblioteca! * \nÚnete a nosotros para un día divertido y familiar que honra a los niños\, las familias y la alegría de la lectura con nuestro emocionante festival de arte con tiza en la acera. ¡Este evento es gratuito y abierto para todas las edades y niveles de habilidad! \nGet ready with a free workshop:\nOn Saturday\, April 11th\, we’ll offer a free class to teach you how to transform a small picture into a large sidewalk artwork using our distortion technique. This quick\, hands-on session will prepare you to create amazing chalk art on the big day. \nPrepárate con un taller gratuito:\nEl sábado 11 de abril ofreceremos una clase gratuita para enseñarte cómo transformar una imagen pequeña en una obra grande en la acera usando nuestra técnica de distorsión. Esta sesión práctica y rápida te preparará para crear increíbles dibujos con tiza el día del evento. \nEvent details for April 25th: \n\nSidewalk chalk art begins at 10 a.m. with chalk provided for all participants.\nThe sidewalk will be cleaned and prepped\, ready for your creativity.\nArtists can work at their own pace throughout the day.\nEnjoy storytime sessions and a cozy reading area featuring picture books for kids.\nFree snow cones\, music\, and great vibes will keep the fun going!\nThe community is invited to come and admire the chalk masterpieces all day long.\n\nDetalles del evento para el 25 de abril: \n\nEl arte con tiza en la acera comienza a las 10 a.m. y se proporcionará tiza a todos los participantes.\nLa acera estará limpia y lista para tu creatividad.\nLos artistas pueden trabajar a su propio ritmo durante todo el día.\nHabrá sesiones de cuentacuentos y un área de lectura con libros ilustrados para niños.\nDisfruta de raspados gratuitos\, música y un ambiente lleno de buena energía.\nInvitamos a la comunidad a venir a admirar las obras de arte con tiza durante todo el día.\n\nReserve your spot:\nParticipants need to sign up in advance to reserve a sidewalk square by calling the library at (805) 684-4314 or filling out this form: Sign-up Form. \nReserva tu espacio:\nLos participantes deben inscribirse con anticipación para reservar un cuadro en la acera llamando a la biblioteca al (805) 684-4314 o llenando este formulario: Formulario de inscripción. \nTodas las clases y la participación son gratuitas. ¡Trae tu creatividad y acompáñanos en un día de arte\, cuentos y celebración! \nAll classes and participation are free. Bring your creativity and join us for a day of art\, stories\, and celebration! \n \n* Este programa es posible en parte gracias a REFORMA\, la Asociación Nacional para Promover los Servicios Bibliotecarios y de Información para Latinos y Personas de Habla Hispana.\n*This program is made possible in part by REFORMA\, the National Association to Promote Library and Information Services to Latinos and the Spanish-Speaking.
URL:https://carpinterialibrary.org/event/dia-caminos-de-cuentos-y-colores-sidewalks-of-stories-and-color/
LOCATION:Carpinteria Community Library\, 5141 Carpinteria Avenue\, Carpinteria\, CA\, 93013\, United States
ATTACH;FMTTYPE=image/jpeg:https://carpinterialibrary.org/wp-content/uploads/2026/03/Dia-1.jpg
END:VEVENT
BEGIN:VEVENT
DTSTART;TZID=America/Los_Angeles:20260428T160000
DTEND;TZID=America/Los_Angeles:20260428T173000
DTSTAMP:20260423T042903
CREATED:20240507T213321Z
LAST-MODIFIED:20250520T175633Z
UID:4428-1777392000-1777397400@carpinterialibrary.org
SUMMARY:Carpinteria Songwriters Circle
DESCRIPTION:
URL:https://carpinterialibrary.org/event/carpinteria-songwriters/2026-04-28/
LOCATION:Carpinteria Community Library\, 5141 Carpinteria Avenue\, Carpinteria\, CA\, 93013\, United States
ATTACH;FMTTYPE=image/jpeg:https://carpinterialibrary.org/wp-content/uploads/2024/05/songwriters.jpg
END:VEVENT
BEGIN:VEVENT
DTSTART;TZID=America/Los_Angeles:20260429T090000
DTEND;TZID=America/Los_Angeles:20260429T100000
DTSTAMP:20260423T042903
CREATED:20240725T232234Z
LAST-MODIFIED:20251211T172423Z
UID:4839-1777453200-1777456800@carpinterialibrary.org
SUMMARY:Babies Are The Best
DESCRIPTION:Come and join us!
URL:https://carpinterialibrary.org/event/babies-are-the-best-2025-06-18/2026-04-29/
LOCATION:Carpinteria Community Library\, 5141 Carpinteria Avenue\, Carpinteria\, CA\, 93013\, United States
ATTACH;FMTTYPE=image/jpeg:https://carpinterialibrary.org/wp-content/uploads/2023/05/Babies-are-the-best.jpg
END:VEVENT
BEGIN:VEVENT
DTSTART;TZID=America/Los_Angeles:20260429T110000
DTEND;TZID=America/Los_Angeles:20260429T123000
DTSTAMP:20260423T042903
CREATED:20241003T170146Z
LAST-MODIFIED:20250520T172115Z
UID:4158-1777460400-1777465800@carpinterialibrary.org
SUMMARY:Science for Teens
DESCRIPTION:STEM Classes for Teens (11-13 years old)
URL:https://carpinterialibrary.org/event/science-for-teens/2026-04-29/
LOCATION:Carpinteria Community Library\, 5141 Carpinteria Avenue\, Carpinteria\, CA\, 93013\, United States
ATTACH;FMTTYPE=image/jpeg:https://carpinterialibrary.org/wp-content/uploads/2024/10/Science-for-Teens-Lesson-Flyer-1.jpg
END:VEVENT
BEGIN:VEVENT
DTSTART;TZID=America/Los_Angeles:20260429T130000
DTEND;TZID=America/Los_Angeles:20260429T150000
DTSTAMP:20260423T042903
CREATED:20241010T161259Z
LAST-MODIFIED:20251211T172925Z
UID:4030-1777467600-1777474800@carpinterialibrary.org
SUMMARY:Carpinteria Knitters Group
DESCRIPTION:Every Wednesday at 1:00pm \nAll levels are welcome!
URL:https://carpinterialibrary.org/event/carpinteria-knitters-group-2/2026-04-29/
LOCATION:Carpinteria Community Library\, 5141 Carpinteria Avenue\, Carpinteria\, CA\, 93013\, United States
ATTACH;FMTTYPE=image/jpeg:https://carpinterialibrary.org/wp-content/uploads/2024/10/Knitting-Group-500-x-500-px.jpg
END:VEVENT
BEGIN:VEVENT
DTSTART;TZID=America/Los_Angeles:20260430T083000
DTEND;TZID=America/Los_Angeles:20260430T100000
DTSTAMP:20260423T042903
CREATED:20250828T235650Z
LAST-MODIFIED:20251124T223653Z
UID:7058-1777537800-1777543200@carpinterialibrary.org
SUMMARY:Grupo de Conversación en Inglés / English Language Conversation Group
DESCRIPTION:Para estudiantes de ESL\, cualquier nivel de inglés son bienvenidos. \nEn la Biblioteca Comunitaria de Carpintería. Sin costo alguno. \nFor ESL learners\, any English level are welcome.
URL:https://carpinterialibrary.org/event/grupo-de-conversacion-en-ingles-english-language-conversation-group/2026-04-30/
LOCATION:Carpinteria Community Library\, 5141 Carpinteria Avenue\, Carpinteria\, CA\, 93013\, United States
ATTACH;FMTTYPE=image/jpeg:https://carpinterialibrary.org/wp-content/uploads/2024/09/English-Conversation-Group-667-x-667-px.jpg
END:VEVENT
BEGIN:VEVENT
DTSTART;TZID=America/Los_Angeles:20260505T160000
DTEND;TZID=America/Los_Angeles:20260505T173000
DTSTAMP:20260423T042903
CREATED:20240507T213321Z
LAST-MODIFIED:20250520T175633Z
UID:4429-1777996800-1778002200@carpinterialibrary.org
SUMMARY:Carpinteria Songwriters Circle
DESCRIPTION:
URL:https://carpinterialibrary.org/event/carpinteria-songwriters/2026-05-05/
LOCATION:Carpinteria Community Library\, 5141 Carpinteria Avenue\, Carpinteria\, CA\, 93013\, United States
ATTACH;FMTTYPE=image/jpeg:https://carpinterialibrary.org/wp-content/uploads/2024/05/songwriters.jpg
END:VEVENT
BEGIN:VEVENT
DTSTART;TZID=America/Los_Angeles:20260506T090000
DTEND;TZID=America/Los_Angeles:20260506T100000
DTSTAMP:20260423T042903
CREATED:20240725T232234Z
LAST-MODIFIED:20251211T172423Z
UID:4840-1778058000-1778061600@carpinterialibrary.org
SUMMARY:Babies Are The Best
DESCRIPTION:Come and join us!
URL:https://carpinterialibrary.org/event/babies-are-the-best-2025-06-18/2026-05-06/
LOCATION:Carpinteria Community Library\, 5141 Carpinteria Avenue\, Carpinteria\, CA\, 93013\, United States
ATTACH;FMTTYPE=image/jpeg:https://carpinterialibrary.org/wp-content/uploads/2023/05/Babies-are-the-best.jpg
END:VEVENT
BEGIN:VEVENT
DTSTART;TZID=America/Los_Angeles:20260506T110000
DTEND;TZID=America/Los_Angeles:20260506T123000
DTSTAMP:20260423T042903
CREATED:20241003T170146Z
LAST-MODIFIED:20250520T172116Z
UID:4159-1778065200-1778070600@carpinterialibrary.org
SUMMARY:Science for Teens
DESCRIPTION:STEM Classes for Teens (11-13 years old)
URL:https://carpinterialibrary.org/event/science-for-teens/2026-05-06/
LOCATION:Carpinteria Community Library\, 5141 Carpinteria Avenue\, Carpinteria\, CA\, 93013\, United States
ATTACH;FMTTYPE=image/jpeg:https://carpinterialibrary.org/wp-content/uploads/2024/10/Science-for-Teens-Lesson-Flyer-1.jpg
END:VEVENT
BEGIN:VEVENT
DTSTART;TZID=America/Los_Angeles:20260506T130000
DTEND;TZID=America/Los_Angeles:20260506T150000
DTSTAMP:20260423T042903
CREATED:20241010T161259Z
LAST-MODIFIED:20251211T172926Z
UID:4031-1778072400-1778079600@carpinterialibrary.org
SUMMARY:Carpinteria Knitters Group
DESCRIPTION:Every Wednesday at 1:00pm \nAll levels are welcome!
URL:https://carpinterialibrary.org/event/carpinteria-knitters-group-2/2026-05-06/
LOCATION:Carpinteria Community Library\, 5141 Carpinteria Avenue\, Carpinteria\, CA\, 93013\, United States
ATTACH;FMTTYPE=image/jpeg:https://carpinterialibrary.org/wp-content/uploads/2024/10/Knitting-Group-500-x-500-px.jpg
END:VEVENT
BEGIN:VEVENT
DTSTART;TZID=America/Los_Angeles:20260507T083000
DTEND;TZID=America/Los_Angeles:20260507T100000
DTSTAMP:20260423T042903
CREATED:20250828T235650Z
LAST-MODIFIED:20251124T223653Z
UID:7059-1778142600-1778148000@carpinterialibrary.org
SUMMARY:Grupo de Conversación en Inglés / English Language Conversation Group
DESCRIPTION:Para estudiantes de ESL\, cualquier nivel de inglés son bienvenidos. \nEn la Biblioteca Comunitaria de Carpintería. Sin costo alguno. \nFor ESL learners\, any English level are welcome.
URL:https://carpinterialibrary.org/event/grupo-de-conversacion-en-ingles-english-language-conversation-group/2026-05-07/
LOCATION:Carpinteria Community Library\, 5141 Carpinteria Avenue\, Carpinteria\, CA\, 93013\, United States
ATTACH;FMTTYPE=image/jpeg:https://carpinterialibrary.org/wp-content/uploads/2024/09/English-Conversation-Group-667-x-667-px.jpg
END:VEVENT
BEGIN:VEVENT
DTSTART;TZID=America/Los_Angeles:20260507T100000
DTEND;TZID=America/Los_Angeles:20260507T123000
DTSTAMP:20260423T042903
CREATED:20230215T001445Z
LAST-MODIFIED:20251211T172524Z
UID:3039-1778148000-1778157000@carpinterialibrary.org
SUMMARY:One-on-One Tech Help
DESCRIPTION:Every first and third Thursday of the month from 10am to 12:30pm \nPlease ask for a 30-minute appointment to reserve a spot.
URL:https://carpinterialibrary.org/event/one-on-one-tech-help-2-2024-08-15/2026-05-07/
LOCATION:Carpinteria Community Library\, 5141 Carpinteria Avenue\, Carpinteria\, CA\, 93013\, United States
ATTACH;FMTTYPE=image/jpeg:https://carpinterialibrary.org/wp-content/uploads/2023/02/Hi-Tech-Help.jpg
END:VEVENT
BEGIN:VEVENT
DTSTART;TZID=America/Los_Angeles:20260512T160000
DTEND;TZID=America/Los_Angeles:20260512T173000
DTSTAMP:20260423T042903
CREATED:20240507T213321Z
LAST-MODIFIED:20250520T175634Z
UID:4430-1778601600-1778607000@carpinterialibrary.org
SUMMARY:Carpinteria Songwriters Circle
DESCRIPTION:
URL:https://carpinterialibrary.org/event/carpinteria-songwriters/2026-05-12/
LOCATION:Carpinteria Community Library\, 5141 Carpinteria Avenue\, Carpinteria\, CA\, 93013\, United States
ATTACH;FMTTYPE=image/jpeg:https://carpinterialibrary.org/wp-content/uploads/2024/05/songwriters.jpg
END:VEVENT
BEGIN:VEVENT
DTSTART;TZID=America/Los_Angeles:20260513T090000
DTEND;TZID=America/Los_Angeles:20260513T100000
DTSTAMP:20260423T042903
CREATED:20240725T232234Z
LAST-MODIFIED:20251211T172424Z
UID:4841-1778662800-1778666400@carpinterialibrary.org
SUMMARY:Babies Are The Best
DESCRIPTION:Come and join us!
URL:https://carpinterialibrary.org/event/babies-are-the-best-2025-06-18/2026-05-13/
LOCATION:Carpinteria Community Library\, 5141 Carpinteria Avenue\, Carpinteria\, CA\, 93013\, United States
ATTACH;FMTTYPE=image/jpeg:https://carpinterialibrary.org/wp-content/uploads/2023/05/Babies-are-the-best.jpg
END:VEVENT
BEGIN:VEVENT
DTSTART;TZID=America/Los_Angeles:20260513T110000
DTEND;TZID=America/Los_Angeles:20260513T123000
DTSTAMP:20260423T042903
CREATED:20241003T170146Z
LAST-MODIFIED:20250520T172116Z
UID:4160-1778670000-1778675400@carpinterialibrary.org
SUMMARY:Science for Teens
DESCRIPTION:STEM Classes for Teens (11-13 years old)
URL:https://carpinterialibrary.org/event/science-for-teens/2026-05-13/
LOCATION:Carpinteria Community Library\, 5141 Carpinteria Avenue\, Carpinteria\, CA\, 93013\, United States
ATTACH;FMTTYPE=image/jpeg:https://carpinterialibrary.org/wp-content/uploads/2024/10/Science-for-Teens-Lesson-Flyer-1.jpg
END:VEVENT
BEGIN:VEVENT
DTSTART;TZID=America/Los_Angeles:20260513T130000
DTEND;TZID=America/Los_Angeles:20260513T150000
DTSTAMP:20260423T042903
CREATED:20241010T161259Z
LAST-MODIFIED:20251211T172926Z
UID:4032-1778677200-1778684400@carpinterialibrary.org
SUMMARY:Carpinteria Knitters Group
DESCRIPTION:Every Wednesday at 1:00pm \nAll levels are welcome!
URL:https://carpinterialibrary.org/event/carpinteria-knitters-group-2/2026-05-13/
LOCATION:Carpinteria Community Library\, 5141 Carpinteria Avenue\, Carpinteria\, CA\, 93013\, United States
ATTACH;FMTTYPE=image/jpeg:https://carpinterialibrary.org/wp-content/uploads/2024/10/Knitting-Group-500-x-500-px.jpg
END:VEVENT
BEGIN:VEVENT
DTSTART;TZID=America/Los_Angeles:20260514T083000
DTEND;TZID=America/Los_Angeles:20260514T100000
DTSTAMP:20260423T042903
CREATED:20250828T235650Z
LAST-MODIFIED:20251124T223654Z
UID:7060-1778747400-1778752800@carpinterialibrary.org
SUMMARY:Grupo de Conversación en Inglés / English Language Conversation Group
DESCRIPTION:Para estudiantes de ESL\, cualquier nivel de inglés son bienvenidos. \nEn la Biblioteca Comunitaria de Carpintería. Sin costo alguno. \nFor ESL learners\, any English level are welcome.
URL:https://carpinterialibrary.org/event/grupo-de-conversacion-en-ingles-english-language-conversation-group/2026-05-14/
LOCATION:Carpinteria Community Library\, 5141 Carpinteria Avenue\, Carpinteria\, CA\, 93013\, United States
ATTACH;FMTTYPE=image/jpeg:https://carpinterialibrary.org/wp-content/uploads/2024/09/English-Conversation-Group-667-x-667-px.jpg
END:VEVENT
BEGIN:VEVENT
DTSTART;TZID=America/Los_Angeles:20260518T160000
DTEND;TZID=America/Los_Angeles:20260518T170000
DTSTAMP:20260423T042903
CREATED:20250609T172612Z
LAST-MODIFIED:20260318T235210Z
UID:6045-1779120000-1779123600@carpinterialibrary.org
SUMMARY:Carpinteria Book Club
DESCRIPTION:Join us for tea\, a reading\, and a conversation about Heartwood by Amity Gaige! \nThis compelling novel explores the complexities of family\, memory\, and the ties that bind us. With Gaige’s sharp prose and deeply human characters\, Heartwood invites us into a story that’s both intimate and haunting — perfect for sparking thoughtful discussion. \nFind it in our catalog. \nOur next book club meeting will be on April 20th at 4:00 PM at the Carpinteria Community Library. \nDon’t forget\, we meet every 3rd Monday of the month — mark your calendars! \nWe look forward to seeing you there!
URL:https://carpinterialibrary.org/event/carpinteria-book-club/2026-05-18/
LOCATION:Carpinteria Community Library\, 5141 Carpinteria Avenue\, Carpinteria\, CA\, 93013\, United States
ATTACH;FMTTYPE=image/png:https://carpinterialibrary.org/wp-content/uploads/2025/06/James-flyer.png
END:VEVENT
BEGIN:VEVENT
DTSTART;TZID=America/Los_Angeles:20260519T160000
DTEND;TZID=America/Los_Angeles:20260519T173000
DTSTAMP:20260423T042903
CREATED:20240507T213321Z
LAST-MODIFIED:20250520T175634Z
UID:4431-1779206400-1779211800@carpinterialibrary.org
SUMMARY:Carpinteria Songwriters Circle
DESCRIPTION:
URL:https://carpinterialibrary.org/event/carpinteria-songwriters/2026-05-19/
LOCATION:Carpinteria Community Library\, 5141 Carpinteria Avenue\, Carpinteria\, CA\, 93013\, United States
ATTACH;FMTTYPE=image/jpeg:https://carpinterialibrary.org/wp-content/uploads/2024/05/songwriters.jpg
END:VEVENT
BEGIN:VEVENT
DTSTART;TZID=America/Los_Angeles:20260520T090000
DTEND;TZID=America/Los_Angeles:20260520T100000
DTSTAMP:20260423T042903
CREATED:20240725T232234Z
LAST-MODIFIED:20251211T172424Z
UID:4842-1779267600-1779271200@carpinterialibrary.org
SUMMARY:Babies Are The Best
DESCRIPTION:Come and join us!
URL:https://carpinterialibrary.org/event/babies-are-the-best-2025-06-18/2026-05-20/
LOCATION:Carpinteria Community Library\, 5141 Carpinteria Avenue\, Carpinteria\, CA\, 93013\, United States
ATTACH;FMTTYPE=image/jpeg:https://carpinterialibrary.org/wp-content/uploads/2023/05/Babies-are-the-best.jpg
END:VEVENT
BEGIN:VEVENT
DTSTART;TZID=America/Los_Angeles:20260520T110000
DTEND;TZID=America/Los_Angeles:20260520T123000
DTSTAMP:20260423T042903
CREATED:20241003T170146Z
LAST-MODIFIED:20250520T172117Z
UID:4161-1779274800-1779280200@carpinterialibrary.org
SUMMARY:Science for Teens
DESCRIPTION:STEM Classes for Teens (11-13 years old)
URL:https://carpinterialibrary.org/event/science-for-teens/2026-05-20/
LOCATION:Carpinteria Community Library\, 5141 Carpinteria Avenue\, Carpinteria\, CA\, 93013\, United States
ATTACH;FMTTYPE=image/jpeg:https://carpinterialibrary.org/wp-content/uploads/2024/10/Science-for-Teens-Lesson-Flyer-1.jpg
END:VEVENT
BEGIN:VEVENT
DTSTART;TZID=America/Los_Angeles:20260520T130000
DTEND;TZID=America/Los_Angeles:20260520T150000
DTSTAMP:20260423T042903
CREATED:20241010T161259Z
LAST-MODIFIED:20251211T172928Z
UID:4033-1779282000-1779289200@carpinterialibrary.org
SUMMARY:Carpinteria Knitters Group
DESCRIPTION:Every Wednesday at 1:00pm \nAll levels are welcome!
URL:https://carpinterialibrary.org/event/carpinteria-knitters-group-2/2026-05-20/
LOCATION:Carpinteria Community Library\, 5141 Carpinteria Avenue\, Carpinteria\, CA\, 93013\, United States
ATTACH;FMTTYPE=image/jpeg:https://carpinterialibrary.org/wp-content/uploads/2024/10/Knitting-Group-500-x-500-px.jpg
END:VEVENT
BEGIN:VEVENT
DTSTART;TZID=America/Los_Angeles:20260521T083000
DTEND;TZID=America/Los_Angeles:20260521T100000
DTSTAMP:20260423T042903
CREATED:20250828T235650Z
LAST-MODIFIED:20251124T223654Z
UID:7061-1779352200-1779357600@carpinterialibrary.org
SUMMARY:Grupo de Conversación en Inglés / English Language Conversation Group
DESCRIPTION:Para estudiantes de ESL\, cualquier nivel de inglés son bienvenidos. \nEn la Biblioteca Comunitaria de Carpintería. Sin costo alguno. \nFor ESL learners\, any English level are welcome.
URL:https://carpinterialibrary.org/event/grupo-de-conversacion-en-ingles-english-language-conversation-group/2026-05-21/
LOCATION:Carpinteria Community Library\, 5141 Carpinteria Avenue\, Carpinteria\, CA\, 93013\, United States
ATTACH;FMTTYPE=image/jpeg:https://carpinterialibrary.org/wp-content/uploads/2024/09/English-Conversation-Group-667-x-667-px.jpg
END:VEVENT
BEGIN:VEVENT
DTSTART;TZID=America/Los_Angeles:20260521T100000
DTEND;TZID=America/Los_Angeles:20260521T123000
DTSTAMP:20260423T042903
CREATED:20230215T001445Z
LAST-MODIFIED:20251211T172524Z
UID:3016-1779357600-1779366600@carpinterialibrary.org
SUMMARY:One-on-One Tech Help
DESCRIPTION:Every first and third Thursday of the month from 10am to 12:30pm \nPlease ask for a 30-minute appointment to reserve a spot.
URL:https://carpinterialibrary.org/event/one-on-one-tech-help-2-2024-08-15/2026-05-21/
LOCATION:Carpinteria Community Library\, 5141 Carpinteria Avenue\, Carpinteria\, CA\, 93013\, United States
ATTACH;FMTTYPE=image/jpeg:https://carpinterialibrary.org/wp-content/uploads/2023/02/Hi-Tech-Help.jpg
END:VEVENT
BEGIN:VEVENT
DTSTART;TZID=America/Los_Angeles:20260526T160000
DTEND;TZID=America/Los_Angeles:20260526T173000
DTSTAMP:20260423T042903
CREATED:20240507T213321Z
LAST-MODIFIED:20250520T175634Z
UID:4432-1779811200-1779816600@carpinterialibrary.org
SUMMARY:Carpinteria Songwriters Circle
DESCRIPTION:
URL:https://carpinterialibrary.org/event/carpinteria-songwriters/2026-05-26/
LOCATION:Carpinteria Community Library\, 5141 Carpinteria Avenue\, Carpinteria\, CA\, 93013\, United States
ATTACH;FMTTYPE=image/jpeg:https://carpinterialibrary.org/wp-content/uploads/2024/05/songwriters.jpg
END:VEVENT
BEGIN:VEVENT
DTSTART;TZID=America/Los_Angeles:20260527T090000
DTEND;TZID=America/Los_Angeles:20260527T100000
DTSTAMP:20260423T042903
CREATED:20240725T232234Z
LAST-MODIFIED:20251211T172425Z
UID:4843-1779872400-1779876000@carpinterialibrary.org
SUMMARY:Babies Are The Best
DESCRIPTION:Come and join us!
URL:https://carpinterialibrary.org/event/babies-are-the-best-2025-06-18/2026-05-27/
LOCATION:Carpinteria Community Library\, 5141 Carpinteria Avenue\, Carpinteria\, CA\, 93013\, United States
ATTACH;FMTTYPE=image/jpeg:https://carpinterialibrary.org/wp-content/uploads/2023/05/Babies-are-the-best.jpg
END:VEVENT
BEGIN:VEVENT
DTSTART;TZID=America/Los_Angeles:20260527T110000
DTEND;TZID=America/Los_Angeles:20260527T123000
DTSTAMP:20260423T042903
CREATED:20241003T170146Z
LAST-MODIFIED:20250520T172117Z
UID:4162-1779879600-1779885000@carpinterialibrary.org
SUMMARY:Science for Teens
DESCRIPTION:STEM Classes for Teens (11-13 years old)
URL:https://carpinterialibrary.org/event/science-for-teens/2026-05-27/
LOCATION:Carpinteria Community Library\, 5141 Carpinteria Avenue\, Carpinteria\, CA\, 93013\, United States
ATTACH;FMTTYPE=image/jpeg:https://carpinterialibrary.org/wp-content/uploads/2024/10/Science-for-Teens-Lesson-Flyer-1.jpg
END:VEVENT
BEGIN:VEVENT
DTSTART;TZID=America/Los_Angeles:20260527T130000
DTEND;TZID=America/Los_Angeles:20260527T150000
DTSTAMP:20260423T042903
CREATED:20241010T161259Z
LAST-MODIFIED:20251211T172928Z
UID:4034-1779886800-1779894000@carpinterialibrary.org
SUMMARY:Carpinteria Knitters Group
DESCRIPTION:Every Wednesday at 1:00pm \nAll levels are welcome!
URL:https://carpinterialibrary.org/event/carpinteria-knitters-group-2/2026-05-27/
LOCATION:Carpinteria Community Library\, 5141 Carpinteria Avenue\, Carpinteria\, CA\, 93013\, United States
ATTACH;FMTTYPE=image/jpeg:https://carpinterialibrary.org/wp-content/uploads/2024/10/Knitting-Group-500-x-500-px.jpg
END:VEVENT
END:VCALENDAR